BEGIN:VCALENDAR
VERSION:2.0
PRODID:-//wp-events-plugin.com//7.2.3.1//EN
TZID:Europe/Berlin
X-WR-TIMEZONE:Europe/Berlin
BEGIN:VEVENT
UID:29@foerderkreis-fuerstenberg.de
DTSTART;TZID=Europe/Berlin:20260531T173000
DTEND;TZID=Europe/Berlin:20260531T220000
DTSTAMP:20260328T183232Z
URL:https://foerderkreis-fuerstenberg.de/veranstaltungen/dinner-in-white/
SUMMARY:Dinner in White
DESCRIPTION:Dinner in White im Schlosspark Fürstenberg\nAm 31. Mai 2026 l
 ädt der Förderkreis Fürstenberg zu einem besonderen Abend rund um das S
 chloss Fürstenberg ein. Um 17:00 Uhr beginnt im alten Pferdestall die Fil
 mvorführung des historischen Schauspiels „700 Jahre Vorstenburg“. Ans
 chließend startet um 18:30 Uhr das Dinner in White im Schlosspark Fürste
 nberg\, das mit einem Sektempfang eröffnet wird. Gäste werden gebeten\, 
 Essen sowie Geschirr\, Besteck und Gläser selbst im Picknickkorb oder in 
 einer Kühltasche mitzubringen\; Getränke können vor Ort käuflich erwor
 ben werden. Die Veranstaltung ist ab 14 Jahren möglich. \nEs gibt zwei Ti
 cketvarianten: ein Ticket inklusive Filmvorführung sowie ein Ticket nur f
 ür das Dinner in White. Die Tickets werden in Papierform ausgegeben und m
 üssen zur Veranstaltung mitgebracht werden. \nDie Teilnahme kostet 15\,00
  Euro pro Person. \nDie Anmeldung beginnt am 02.04.2026 um 15:00 Uhr beim 
 ScheunenMarkt1a am Stand des Förderkreises Fürstenberg. \nAusweichtermin
 e bei schlechtem Wetter sind der 12. Juni 2026 und der 26. Juni 2026.\nAus
 führliche Infos hier: Dinner in White\n&nbsp\;\n\n
ATTACH;FMTTYPE=image/jpeg:https://foerderkreis-fuerstenberg.de/wp-content/
 uploads/2026/03/Dinner_in_White_Plakat_240326_visual-scaled.jpg
LOCATION:Schlosspark | Alter Pferdestall\, Am Schloßpark 10\, Fürstenberg
 \, 33181\, Deutschland
X-APPLE-STRUCTURED-LOCATION;VALUE=URI;X-ADDRESS=Am Schloßpark 10\, Fürste
 nberg\, 33181\, Deutschland;X-APPLE-RADIUS=100;X-TITLE=Schlosspark | Alter
  Pferdestall:geo:0,0
END:VEVENT
BEGIN:VTIMEZONE
TZID:Europe/Berlin
X-LIC-LOCATION:Europe/Berlin
BEGIN:DAYLIGHT
DTSTART:20260329T030000
TZOFFSETFROM:+0100
TZOFFSETTO:+0200
TZNAME:CEST
END:DAYLIGHT
END:VTIMEZONE
END:VCALENDAR